BEGIN:VCALENDAR
VERSION:2.0
PRODID:Events Booking
BEGIN:VEVENT
UID:69e78dca10729
SUMMARY:Kaitsekoolitus Raplas
DESCRIPTION:Kaitse (varruka) treeningud Raplas. Täpsem informatsioon Lauri
  5142 810
LOCATION:58.954056\,24.680222
DTSTART:20250220T160000Z
DTEND:20250220T183000Z
DTSTAMP:20260421T174634Z
ORGANIZER;CN=ipoabc.ee:MAILTO:trainings@ipoabc.ee
GEO:58.954056;24.680222
X-APPLE-STRUCTURED-LOCATION;VALUE=URI;X-ADDRESS=58.954056\,24.680222;X-APPL
 E-RADIUS=72;X-TITLE=RKK hall ja plats:58.954056;24.680222
END:VEVENT
END:VCALENDAR