BEGIN:VCALENDAR
VERSION:2.0
PRODID:Events Booking
BEGIN:VEVENT
UID:69e747c6368a1
SUMMARY:Kaitsekoolitus Kadrinas
DESCRIPTION:Vajalik vähemalt 5 koera. Platsitasu on 2 eurot.
LOCATION:59.330016\,26.149189
DTSTART:20240916T150000Z
DTEND:20240916T173000Z
DTSTAMP:20260421T124750Z
ORGANIZER;CN=ipoabc.ee:MAILTO:trainings@ipoabc.ee
GEO:59.330016;26.149189
X-APPLE-STRUCTURED-LOCATION;VALUE=URI;X-ADDRESS=59.330016\,26.149189;X-APPL
 E-RADIUS=72;X-TITLE=Hallihoovi:59.330016;26.149189
END:VEVENT
END:VCALENDAR